Workbook
Name A____Fb___Glass_width__2: Waarschuwingen!$B$20
Name A____Fh___Glass_height__2: Waarschuwingen!$B$21
Name alle_waarden_voor_overview?: Waarschuwingen!$B$4
Name Fh_en_Fb_ingevuld?: Waarschuwingen!$B$3
Name g1___0_en_t2_≠_0: Waarschuwingen!$B$17
Name g1_≠_0_en_t2___0: Waarschuwingen!$B$16
Name g1_gap1: input!$K$14
Name g2___0_en_t3_≠_0: Waarschuwingen!$B$19
Name g2_≠_0_en_t3___0: Waarschuwingen!$B$18
Name g2_gap2: input!$K$16
Name gegevens__tekort_voor_overview?: Waarschuwingen!$B$12
Name gegevens_tekort_voor_specific?: Waarschuwingen!$B$13
Name gewicht_vleugel_is___180kg: Waarschuwingen!$B$30
Name glasmaat_ingevuld?: Waarschuwingen!$B$2
Name glass_dikte_groter_dan_D_Dg: Waarschuwingen!$B$22
Name glass_height_ingevuld?: Waarschuwingen!$B$6
Name glass_width_ingevuld?: Waarschuwingen!$B$5
Name Glass_width_niet__Glass_height_wel?: Waarschuwingen!$B$15
Name glass_width_of_glass_height_ontbreekt?: Waarschuwingen!$B$7
Name Glass_width_wel__Glass_height_niet?: Waarschuwingen!$B$14
Name Master_key_specific: Waarschuwingen!$B$34
Name Pivot_list: 'pivot list'!$A$2:$A$54
Name t1_outside: input!$K$13
Name t2_middle: input!$K$15
Name t3_inside: input!$K$17

Sheet input
L1: SOBINCO - tool estimation operating forces V.2021/05/06
C2: Project Info
C7: Input
C10: Profile specification | I10: Glass specification
C12: Weight vent Profile | G12: kg/m | I12: panel/gap | K12: thickness
C13: Weight intermediate profile | G13: kg/m | I13: t1 | J13: outside | L13: mm
C14: D | D14: Profile depth | G14: mm | I14: g1 | J14: gap 1 | L14: mm
C15: Dg | D15: Position of the glass | G15: mm | I15: t2 | J15: middle | L15: mm
I16: g2 | J16: gap 2 | L16: mm
C17: Window specification | I17: t3 | J17: inside | L17: mm
C19: Fb | D19: vent width | G19: mm | I19: =IF(I20<>"",Waarschuwingen!C11,"") -> ERROR MESSAGES
C20: Fh | D20: vent height | G20: mm | I20: {=IFERROR(INDEX(Waarschuwingen!$C$12:$C$28,SMALL(IF((Waarschuwingen!$B$12:$B$28)=TRUE,ROW(Waarschuwingen!$B$12:$B$28)-11,100),ROW(1:17))),"")} -> Not all necessary values are filled in correctly
I21: For an estimation of a specific window fill in Fb and Fh
C22: Glass width | G22: mm
C23: Glass height | G23: mm
C24: OR
C26: A | D26: Difference between vent size and glass size | G26: mm
C30: Pivot specification
C31: Used Pivot
C33: RESULTS
K35: LEGEND
C37: Remarks on the results | L37: N/A | M37: No results, not all values are filled in correctly
C38: - The estimation is a calculation of the input values | L38: Fg > 180kg | M38: No result because vent weight exceeds max. bearing weight of the hinges
C39: - Some simplifications of the system are made in the calculation | K39: whitout friction device | L39: 38 N | M39: Estimated operating Force Below 50N, probably possible to keep under 100N with tightened friction device
L40: 62 N | M40: Estimated operating force between 50N and 100N, not possible keep under 100N with tightened friction device
L41: 103 N | M41: Estimated operating force above 100N
K42: with friction device | L42: YES / 40 N | M42: Estimation friction device can hold window open, estimated operating force less than 50N
L43: YES / 80 N | M43: Estimation friction device can hold window open, Estimated operating force between 50N and 100N
L44: YES / 120 N | M44: Estimation friction device can hold window open, estimated force will be more than 100N
L45: NO | M45: Estimation friction device is not sufficient to hold window open
E47: specific window calculation
F51: Glass weight | I51: =IF(Master_key_specific=TRUE,Waarschuwingen!$C$34, ROUNDDOWN(CALC!$F$22,1)) -> N/A
F52: Profile weight | I52: =IF(Master_key_specific=TRUE,Waarschuwingen!$C$34, ROUNDDOWN(CALC!$F$23+CALC!$F$24,1)) -> N/A
F53: Total Vent weight (Fg) | I53: =IF(Master_key_specific=TRUE,Waarschuwingen!$C$34,ROUNDDOWN(CALC!$F$22,1)+ROUNDDOWN(CALC!$F$23+CALC!$F$24,1)) -> N/A | K53: =IF(gewicht_vleugel_is___180kg,Waarschuwingen!C30,"")
G55: Estimated operating force, without tightening friction device | L55: =IF(Master_key_specific=TRUE,Waarschuwingen!$C$34,IF($I$53>180,Waarschuwingen!$C$41,CALC!$G$51)) -> N/A
G57: Estimation hold open by friction device | L57: =IF(Master_key_specific=TRUE,Waarschuwingen!$C$34,IF($I$53>180,Waarschuwingen!$C$41,CALC!$G$52)) -> N/A
G58: Estimated operating force , with friction device tightened | L58: =IF(Master_key_specific=TRUE,Waarschuwingen!$C$34,IF($I$53>180,Waarschuwingen!$C$41,IF($L$57="NO","/",ROUND(L55*2,0)))) -> N/A
F60: overview
G63: Estimated operating force without friction device
G85: Estimation hold open by friction device

Sheet pivot list
A1: Pivot | B1: G | C1: unit | D1: available brakingforce | E1: unit
A2: 2600-1 | B2: 20.5 | C2: mm | D2: 40 | E2: Nm
A3: 2600-1B | B3: 20.5 | C3: mm | D3: 40 | E3: Nm
A4: 2600-4 | B4: 23.5 | C4: mm | D4: 40 | E4: Nm
A5: 2600-5 | B5: 21.1 | C5: mm | D5: 40 | E5: Nm
A6: 2600-6 | B6: 20.5 | C6: mm | D6: 40 | E6: Nm
A7: 2600-7 | B7: 23.5 | C7: mm | D7: 40 | E7: Nm
A8: 2600-8 | B8: 20.5 | C8: mm | D8: 40 | E8: Nm
A9: 490-4J | B9: 21 | C9: mm | D9: 40 | E9: Nm
A10: 490-5 | B10: 24 | C10: mm | D10: 40 | E10: Nm
A11: 490-5F | B11: 26 | C11: mm | D11: 40 | E11: Nm
A12: 490-7C | B12: 21 | C12: mm | D12: 40 | E12: Nm
A13: 490-82 | B13: 15 | C13: mm | D13: 40 | E13: Nm
... A53: 490-191 | B53: 15.7 | C53: mm | D53: 40 | E53: Nm
A54: 2501 | B54: 15 | C54: mm | D54: 40 | E54: Nm

Sheet CALC
B2: berekening gegevens glasplaat | I2: Pivot
B5: Glasplaten | E5: Gap | J5: Gebruikte Pivot | M5: =input!F31 -> 0
B6: outside | C6: =input!K13 -> 0 | D6: mm | E6: SRZ1 | F6: =input!K14 -> 0 | G6: mm | I6: G | J6: afstand tot draaipunt | M6: =VLOOKUP(M5,'pivot list'!$A$2:$B$54,2,FALSE) -> #N/A | N6: mm
B7: middle | C7: =input!K15 -> 0 | D7: mm | E7: SRZ2 | F7: =input!K16 -> 0 | G7: mm
B8: inside | C8: =input!K17 -> 0 | D8: mm
B10: Aantal glasplaten | E10: =COUNTIF(C6:C8,"<>0") -> 0
B11: gewicht glasplaat | E11: =SUM(C6:C8)*2.5 -> 0 | F11: kg/m²
B12: glasplaat midden? | E12: =COUNTIF(C7,"<>0") -> 0
B13: glasplaat binnen? | E13: =COUNTIF(C8,"<>0") -> 0
B15: Berekening specifiek raam
B19: Gewichten | I19: gegevens in meter
B22: Fg | C22: Gewicht glas | F22: =M24*M25*E11 -> 0 | G22: kg | I22: Fb | J22: vleugelbreedte | M22: =input!F19*0.001 -> 0 | N22: m
C23: Gewicht Vleugelprofiel | F23: =(2*M22+2*M23)*input!F12 -> 0 | G23: kg | I23: Fh | J23: vleugelhoogte | M23: =input!F20*0.001 -> 0 | N23: m
C24: Gewicht Wisselprofiel | F24: =(M22+M23)*input!F13 -> 0 | G24: kg | J24: glass width | M24: =IF(input!$F$22<>0,input!$F$22*0.001,(input!$F$19-2*input!$F$26)*0.001) -> 0 | N24: m
J25: glass height | M25: =IF(input!$F$23<>0,input!$F$23*0.001,(input!$F$20-2*input!$F$26)*0.001) -> 0 | N25: m
B26: Zwaartepunt glasplaat | I26: D | J26: profieldiepte | M26: =input!F14*0.001 -> 0 | N26: m
I27: MgZ | J27: zwaartepunt glas(van buiten) | M27: =F30*0.001 -> #DIV/0! | N27: m
I28: G | J28: afstand tot Draaipunt | M28: =M6*0.001 -> #N/A | N28: m
C29: positie in glas (van buiten) | F29: =((C6/2)*C6+(E12*(C6+F6+C7/2)*C7)+(E13*(C6+F6+C7+F7+C8/2)*C8))/(SUM(C6:C8)) -> #DIV/0! | G29: mm | I29: evlZ | J29: zwaartepunt vleugelprofiel | M29: =F32*0.001 -> 0 | N29: m
B30: egZ | C30: zwaartepunt glas (van buiten) | F30: =input!F14-input!F15-CALC!F29 -> #DIV/0! | G30: mm | I30: ewZ | J30: zwaartepunt wisselprofiel | M30: =F33*0.001 -> 0 | N30: m
I31: eZ | J31: zwaartepunt vleugel | M31: =F35*0.001 -> #DIV/0! | N31: m
B32: evlZ | C32: zwaartepunt vleugelprofiel | F32: =input!$F$14/2 -> 0 | G32: mm | I32: eg+G | J32: zwaartepunt + draaipunt | M32: =M31+M28 -> #DIV/0! | N32: m
B33: ewZ | C33: zwaartepunt wisselprofiel | F33: =input!$F$14/2 -> 0 | G33: mm
I34: gegevens in N
B35: eZ | C35: zwaartepunt vleugel | F35: =(F30*F22+F32*F23+F33*F24)/(SUM(F22:F24)) -> #DIV/0! | G35: mm
I37: Fg/m² | J37: gewicht glas per m² | M37: =E11*9.81 -> 0 | N37: N/m²
I38: Fg | J38: gewicht glas | M38: =F22*9.81 -> 0 | N38: N
J39: gewicht vleugelprofiel per m | M39: =input!F12*9.81 -> 0 | N39: N/m
J40: gewicht vleugelprofiel | M40: =F23*9.81 -> 0 | N40: N
J41: gewicht wisselprofiel per m² | M41: =input!F13*9.81 -> 0 | N41: N/m
J42: gewicht wisselprofiel | M42: =F24*9.81 -> 0 | N42: N
I43: F | J43: totaalgewicht vleugel | M43: =$M$38+$M$40+$M$42 -> 0 | N43: N
B47: Berekening Bedieningskracht
B50: M | C50: moment rond draaipunt | G50: =M43*M32 -> #DIV/0! | H50: Nm
B51: Fhandle | C51: bedieningskracht op greep | G51: =ROUND(G50/(M23/2),0) -> #DIV/0! | H51: N
B52: Stay open | C52: kan vleugel opengehouden worden? | G52: =IF(G50/2<=VLOOKUP(M5,'pivot list'!A2:E54,4,FALSE),"YES","NO") -> #DIV/0!
B57: Berekening matrix
B62: Glasgewicht
B65: Glasformaat (2*A) | D65: =IF(input!$F$26<>0,2*input!$F$26*0.001,(input!$F$20-input!$F$23)*0.001) -> 0 | E65: (Fh-glashoogte)
E67: Fb
E68: 600 | F68: 700 | G68: 800 | H68: 900 | I68: 1000 | J68: 1100 | K68: 1200 | L68: 1300 | M68: 1400 | N68: 1500 | O68: 1600 | P68: 1700 | Q68: 1800 | R68: 1900 | S68: 2000 | T68: 2100 | U68: 2200 | V68: 2300 | W68: 2400
E69: =E68*0.001 -> 0.6 | F69: =F68*0.001 -> 0.7 | G69: =G68*0.001 -> 0.8 | H69: =H68*0.001 -> 0.9 | I69: =I68*0.001 -> 1 | J69: =J68*0.001 -> 1.1 | K69: =K68*0.001 -> 1.2 | L69: =L68*0.001 -> 1.3 | ... W69: =W68*0.001 -> 2.4
B70: Fh | C70: 600 | D70: =C70*0.001 -> 0.6 | E70: =(E$69-$D$65)*($D70-$D$65)*$M$37 -> 0 | F70: =(F$69-$D$65)*($D70-$D$65)*$M$37 -> 0 | G70: =(G$69-$D$65)*($D70-$D$65)*$M$37 -> 0 | H70: =(H$69-$D$65)*($D70-$D$65)*$M$37 -> 0 | I70: =(I$69-$D$65)*($D70-$D$65)*$M$37 -> 0 | J70: =(J$69-$D$65)*($D70-$D$65)*$M$37 -> 0 | K70: =(K$69-$D$65)*($D70-$D$65)*$M$37 -> 0 | L70: =(L$69-$D$65)*($D70-$D$65)*$M$37 -> 0 | ... W70: =(W$69-$D$65)*($D70-$D$65)*$M$37 -> 0
C71: 700 | D71: =C71*0.001 -> 0.7 | E71: =(E$69-$D$65)*($D71-$D$65)*$M$37 -> 0 | F71: =(F$69-$D$65)*($D71-$D$65)*$M$37 -> 0 | G71: =(G$69-$D$65)*($D71-$D$65)*$M$37 -> 0 | H71: =(H$69-$D$65)*($D71-$D$65)*$M$37 -> 0 | I71: =(I$69-$D$65)*($D71-$D$65)*$M$37 -> 0 | J71: =(J$69-$D$65)*($D71-$D$65)*$M$37 -> 0 | K71: =(K$69-$D$65)*($D71-$D$65)*$M$37 -> 0 | L71: =(L$69-$D$65)*($D71-$D$65)*$M$37 -> 0 | ... W71: =(W$69-$D$65)*($D71-$D$65)*$M$37 -> 0
C72: 800 | D72: =C72*0.001 -> 0.8 | E72: =(E$69-$D$65)*($D72-$D$65)*$M$37 -> 0 | F72: =(F$69-$D$65)*($D72-$D$65)*$M$37 -> 0 | G72: =(G$69-$D$65)*($D72-$D$65)*$M$37 -> 0 | H72: =(H$69-$D$65)*($D72-$D$65)*$M$37 -> 0 | I72: =(I$69-$D$65)*($D72-$D$65)*$M$37 -> 0 | J72: =(J$69-$D$65)*($D72-$D$65)*$M$37 -> 0 | K72: =(K$69-$D$65)*($D72-$D$65)*$M$37 -> 0 | L72: =(L$69-$D$65)*($D72-$D$65)*$M$37 -> 0 | ... W72: =(W$69-$D$65)*($D72-$D$65)*$M$37 -> 0
C73: 900 | D73: =C73*0.001 -> 0.9 | E73: =(E$69-$D$65)*($D73-$D$65)*$M$37 -> 0 | F73: =(F$69-$D$65)*($D73-$D$65)*$M$37 -> 0 | G73: =(G$69-$D$65)*($D73-$D$65)*$M$37 -> 0 | H73: =(H$69-$D$65)*($D73-$D$65)*$M$37 -> 0 | I73: =(I$69-$D$65)*($D73-$D$65)*$M$37 -> 0 | J73: =(J$69-$D$65)*($D73-$D$65)*$M$37 -> 0 | K73: =(K$69-$D$65)*($D73-$D$65)*$M$37 -> 0 | L73: =(L$69-$D$65)*($D73-$D$65)*$M$37 -> 0 | ... W73: =(W$69-$D$65)*($D73-$D$65)*$M$37 -> 0
C74: 1000 | D74: =C74*0.001 -> 1 | E74: =(E$69-$D$65)*($D74-$D$65)*$M$37 -> 0 | F74: =(F$69-$D$65)*($D74-$D$65)*$M$37 -> 0 | G74: =(G$69-$D$65)*($D74-$D$65)*$M$37 -> 0 | H74: =(H$69-$D$65)*($D74-$D$65)*$M$37 -> 0 | I74: =(I$69-$D$65)*($D74-$D$65)*$M$37 -> 0 | J74: =(J$69-$D$65)*($D74-$D$65)*$M$37 -> 0 | K74: =(K$69-$D$65)*($D74-$D$65)*$M$37 -> 0 | L74: =(L$69-$D$65)*($D74-$D$65)*$M$37 -> 0 | ... W74: =(W$69-$D$65)*($D74-$D$65)*$M$37 -> 0
C75: 1100 | D75: =C75*0.001 -> 1.1 | E75: =(E$69-$D$65)*($D75-$D$65)*$M$37 -> 0 | F75: =(F$69-$D$65)*($D75-$D$65)*$M$37 -> 0 | G75: =(G$69-$D$65)*($D75-$D$65)*$M$37 -> 0 | H75: =(H$69-$D$65)*($D75-$D$65)*$M$37 -> 0 | I75: =(I$69-$D$65)*($D75-$D$65)*$M$37 -> 0 | J75: =(J$69-$D$65)*($D75-$D$65)*$M$37 -> 0 | K75: =(K$69-$D$65)*($D75-$D$65)*$M$37 -> 0 | L75: =(L$69-$D$65)*($D75-$D$65)*$M$37 -> 0 | ... W75: =(W$69-$D$65)*($D75-$D$65)*$M$37 -> 0
C76: 1200 | D76: =C76*0.001 -> 1.2 | E76: =(E$69-$D$65)*($D76-$D$65)*$M$37 -> 0 | F76: =(F$69-$D$65)*($D76-$D$65)*$M$37 -> 0 | G76: =(G$69-$D$65)*($D76-$D$65)*$M$37 -> 0 | H76: =(H$69-$D$65)*($D76-$D$65)*$M$37 -> 0 | I76: =(I$69-$D$65)*($D76-$D$65)*$M$37 -> 0 | J76: =(J$69-$D$65)*($D76-$D$65)*$M$37 -> 0 | K76: =(K$69-$D$65)*($D76-$D$65)*$M$37 -> 0 | L76: =(L$69-$D$65)*($D76-$D$65)*$M$37 -> 0 | ... W76: =(W$69-$D$65)*($D76-$D$65)*$M$37 -> 0
C77: 1300 | D77: =C77*0.001 -> 1.3 | E77: =(E$69-$D$65)*($D77-$D$65)*$M$37 -> 0 | F77: =(F$69-$D$65)*($D77-$D$65)*$M$37 -> 0 | G77: =(G$69-$D$65)*($D77-$D$65)*$M$37 -> 0 | H77: =(H$69-$D$65)*($D77-$D$65)*$M$37 -> 0 | I77: =(I$69-$D$65)*($D77-$D$65)*$M$37 -> 0 | J77: =(J$69-$D$65)*($D77-$D$65)*$M$37 -> 0 | K77: =(K$69-$D$65)*($D77-$D$65)*$M$37 -> 0 | L77: =(L$69-$D$65)*($D77-$D$65)*$M$37 -> 0 | ... W77: =(W$69-$D$65)*($D77-$D$65)*$M$37 -> 0
C78: 1400 | D78: =C78*0.001 -> 1.4 | E78: =(E$69-$D$65)*($D78-$D$65)*$M$37 -> 0 | F78: =(F$69-$D$65)*($D78-$D$65)*$M$37 -> 0 | G78: =(G$69-$D$65)*($D78-$D$65)*$M$37 -> 0 | H78: =(H$69-$D$65)*($D78-$D$65)*$M$37 -> 0 | I78: =(I$69-$D$65)*($D78-$D$65)*$M$37 -> 0 | J78: =(J$69-$D$65)*($D78-$D$65)*$M$37 -> 0 | K78: =(K$69-$D$65)*($D78-$D$65)*$M$37 -> 0 | L78: =(L$69-$D$65)*($D78-$D$65)*$M$37 -> 0 | ... W78: =(W$69-$D$65)*($D78-$D$65)*$M$37 -> 0
C79: 1500 | D79: =C79*0.001 -> 1.5 | E79: =(E$69-$D$65)*($D79-$D$65)*$M$37 -> 0 | F79: =(F$69-$D$65)*($D79-$D$65)*$M$37 -> 0 | G79: =(G$69-$D$65)*($D79-$D$65)*$M$37 -> 0 | H79: =(H$69-$D$65)*($D79-$D$65)*$M$37 -> 0 | I79: =(I$69-$D$65)*($D79-$D$65)*$M$37 -> 0 | J79: =(J$69-$D$65)*($D79-$D$65)*$M$37 -> 0 | K79: =(K$69-$D$65)*($D79-$D$65)*$M$37 -> 0 | L79: =(L$69-$D$65)*($D79-$D$65)*$M$37 -> 0 | ... W79: =(W$69-$D$65)*($D79-$D$65)*$M$37 -> 0
C80: 1600 | D80: =C80*0.001 -> 1.6 | E80: =(E$69-$D$65)*($D80-$D$65)*$M$37 -> 0 | F80: =(F$69-$D$65)*($D80-$D$65)*$M$37 -> 0 | G80: =(G$69-$D$65)*($D80-$D$65)*$M$37 -> 0 | H80: =(H$69-$D$65)*($D80-$D$65)*$M$37 -> 0 | I80: =(I$69-$D$65)*($D80-$D$65)*$M$37 -> 0 | J80: =(J$69-$D$65)*($D80-$D$65)*$M$37 -> 0 | K80: =(K$69-$D$65)*($D80-$D$65)*$M$37 -> 0 | L80: =(L$69-$D$65)*($D80-$D$65)*$M$37 -> 0 | ... W80: =(W$69-$D$65)*($D80-$D$65)*$M$37 -> 0
C81: 1700 | D81: =C81*0.001 -> 1.7 | E81: =(E$69-$D$65)*($D81-$D$65)*$M$37 -> 0 | F81: =(F$69-$D$65)*($D81-$D$65)*$M$37 -> 0 | G81: =(G$69-$D$65)*($D81-$D$65)*$M$37 -> 0 | H81: =(H$69-$D$65)*($D81-$D$65)*$M$37 -> 0 | I81: =(I$69-$D$65)*($D81-$D$65)*$M$37 -> 0 | J81: =(J$69-$D$65)*($D81-$D$65)*$M$37 -> 0 | K81: =(K$69-$D$65)*($D81-$D$65)*$M$37 -> 0 | L81: =(L$69-$D$65)*($D81-$D$65)*$M$37 -> 0 | ... W81: =(W$69-$D$65)*($D81-$D$65)*$M$37 -> 0
C82: 1800 | D82: =C82*0.001 -> 1.8 | E82: =(E$69-$D$65)*($D82-$D$65)*$M$37 -> 0 | F82: =(F$69-$D$65)*($D82-$D$65)*$M$37 -> 0 | G82: =(G$69-$D$65)*($D82-$D$65)*$M$37 -> 0 | H82: =(H$69-$D$65)*($D82-$D$65)*$M$37 -> 0 | I82: =(I$69-$D$65)*($D82-$D$65)*$M$37 -> 0 | J82: =(J$69-$D$65)*($D82-$D$65)*$M$37 -> 0 | K82: =(K$69-$D$65)*($D82-$D$65)*$M$37 -> 0 | L82: =(L$69-$D$65)*($D82-$D$65)*$M$37 -> 0 | ... W82: =(W$69-$D$65)*($D82-$D$65)*$M$37 -> 0
... C84: 2000 | D84: =C84*0.001 -> 2 | E84: =(E$69-$D$65)*($D84-$D$65)*$M$37 -> 0 | F84: =(F$69-$D$65)*($D84-$D$65)*$M$37 -> 0 | G84: =(G$69-$D$65)*($D84-$D$65)*$M$37 -> 0 | H84: =(H$69-$D$65)*($D84-$D$65)*$M$37 -> 0 | I84: =(I$69-$D$65)*($D84-$D$65)*$M$37 -> 0 | J84: =(J$69-$D$65)*($D84-$D$65)*$M$37 -> 0 | K84: =(K$69-$D$65)*($D84-$D$65)*$M$37 -> 0 | L84: =(L$69-$D$65)*($D84-$D$65)*$M$37 -> 0 | ... W84: =(W$69-$D$65)*($D84-$D$65)*$M$37 -> 0
B88: Gewicht vleugelprofiel
E92: Fb
E93: =$E$68 -> 600 | F93: =$F$68 -> 700 | G93: =$G$68 -> 800 | H93: =$H$68 -> 900 | I93: =$I$68 -> 1000 | J93: =$J$68 -> 1100 | K93: =$K$68 -> 1200 | L93: =$L$68 -> 1300 | M93: =$M$68 -> 1400 | N93: =$N$68 -> 1500 | O93: =$O$68 -> 1600 | P93: =$P$68 -> 1700 | Q93: =$Q$68 -> 1800 | R93: =$R$68 -> 1900 | S93: =$S$68 -> 2000 | T93: =$T$68 -> 2100 | U93: =$U$68 -> 2200 | V93: =$V$68 -> 2300 | W93: =$W$68 -> 2400
E94: =E93*0.001 -> 0.6 | F94: =F93*0.001 -> 0.7 | G94: =G93*0.001 -> 0.8 | H94: =H93*0.001 -> 0.9 | I94: =I93*0.001 -> 1 | J94: =J93*0.001 -> 1.1 | K94: =K93*0.001 -> 1.2 | L94: =L93*0.001 -> 1.3 | ... W94: =W93*0.001 -> 2.4
B95: Fh | C95: =$C$70 -> 600 | D95: =C95*0.001 -> 0.6 | E95: =(2*E$94+2*$D95)*$M$39 -> 0 | F95: =(2*F$94+2*$D95)*$M$39 -> 0 | G95: =(2*G$94+2*$D95)*$M$39 -> 0 | H95: =(2*H$94+2*$D95)*$M$39 -> 0 | I95: =(2*I$94+2*$D95)*$M$39 -> 0 | J95: =(2*J$94+2*$D95)*$M$39 -> 0 | K95: =(2*K$94+2*$D95)*$M$39 -> 0 | L95: =(2*L$94+2*$D95)*$M$39 -> 0 | ... W95: =(2*W$94+2*$D95)*$M$39 -> 0
C96: =$C$71 -> 700 | D96: =C96*0.001 -> 0.7 | E96: =(2*E$94+2*$D96)*$M$39 -> 0 | F96: =(2*F$94+2*$D96)*$M$39 -> 0 | G96: =(2*G$94+2*$D96)*$M$39 -> 0 | H96: =(2*H$94+2*$D96)*$M$39 -> 0 | I96: =(2*I$94+2*$D96)*$M$39 -> 0 | J96: =(2*J$94+2*$D96)*$M$39 -> 0 | K96: =(2*K$94+2*$D96)*$M$39 -> 0 | L96: =(2*L$94+2*$D96)*$M$39 -> 0 | ... W96: =(2*W$94+2*$D96)*$M$39 -> 0
C97: =$C$72 -> 800 | D97: =C97*0.001 -> 0.8 | E97: =(2*E$94+2*$D97)*$M$39 -> 0 | F97: =(2*F$94+2*$D97)*$M$39 -> 0 | G97: =(2*G$94+2*$D97)*$M$39 -> 0 | H97: =(2*H$94+2*$D97)*$M$39 -> 0 | I97: =(2*I$94+2*$D97)*$M$39 -> 0 | J97: =(2*J$94+2*$D97)*$M$39 -> 0 | K97: =(2*K$94+2*$D97)*$M$39 -> 0 | L97: =(2*L$94+2*$D97)*$M$39 -> 0 | ... W97: =(2*W$94+2*$D97)*$M$39 -> 0
C98: =$C$73 -> 900 | D98: =C98*0.001 -> 0.9 | E98: =(2*E$94+2*$D98)*$M$39 -> 0 | F98: =(2*F$94+2*$D98)*$M$39 -> 0 | G98: =(2*G$94+2*$D98)*$M$39 -> 0 | H98: =(2*H$94+2*$D98)*$M$39 -> 0 | I98: =(2*I$94+2*$D98)*$M$39 -> 0 | J98: =(2*J$94+2*$D98)*$M$39 -> 0 | K98: =(2*K$94+2*$D98)*$M$39 -> 0 | L98: =(2*L$94+2*$D98)*$M$39 -> 0 | ... W98: =(2*W$94+2*$D98)*$M$39 -> 0
C99: =$C$74 -> 1000 | D99: =C99*0.001 -> 1 | E99: =(2*E$94+2*$D99)*$M$39 -> 0 | F99: =(2*F$94+2*$D99)*$M$39 -> 0 | G99: =(2*G$94+2*$D99)*$M$39 -> 0 | H99: =(2*H$94+2*$D99)*$M$39 -> 0 | I99: =(2*I$94+2*$D99)*$M$39 -> 0 | J99: =(2*J$94+2*$D99)*$M$39 -> 0 | K99: =(2*K$94+2*$D99)*$M$39 -> 0 | L99: =(2*L$94+2*$D99)*$M$39 -> 0 | ... W99: =(2*W$94+2*$D99)*$M$39 -> 0
C100: =$C$75 -> 1100 | D100: =C100*0.001 -> 1.1 | E100: =(2*E$94+2*$D100)*$M$39 -> 0 | F100: =(2*F$94+2*$D100)*$M$39 -> 0 | G100: =(2*G$94+2*$D100)*$M$39 -> 0 | H100: =(2*H$94+2*$D100)*$M$39 -> 0 | I100: =(2*I$94+2*$D100)*$M$39 -> 0 | J100: =(2*J$94+2*$D100)*$M$39 -> 0 | K100: =(2*K$94+2*$D100)*$M$39 -> 0 | L100: =(2*L$94+2*$D100)*$M$39 -> 0 | ... W100: =(2*W$94+2*$D100)*$M$39 -> 0
C101: =$C$76 -> 1200 | D101: =C101*0.001 -> 1.2 | E101: =(2*E$94+2*$D101)*$M$39 -> 0 | F101: =(2*F$94+2*$D101)*$M$39 -> 0 | G101: =(2*G$94+2*$D101)*$M$39 -> 0 | H101: =(2*H$94+2*$D101)*$M$39 -> 0 | I101: =(2*I$94+2*$D101)*$M$39 -> 0 | J101: =(2*J$94+2*$D101)*$M$39 -> 0 | K101: =(2*K$94+2*$D101)*$M$39 -> 0 | L101: =(2*L$94+2*$D101)*$M$39 -> 0 | ... W101: =(2*W$94+2*$D101)*$M$39 -> 0
C102: =$C$77 -> 1300 | D102: =C102*0.001 -> 1.3 | E102: =(2*E$94+2*$D102)*$M$39 -> 0 | F102: =(2*F$94+2*$D102)*$M$39 -> 0 | G102: =(2*G$94+2*$D102)*$M$39 -> 0 | H102: =(2*H$94+2*$D102)*$M$39 -> 0 | I102: =(2*I$94+2*$D102)*$M$39 -> 0 | J102: =(2*J$94+2*$D102)*$M$39 -> 0 | K102: =(2*K$94+2*$D102)*$M$39 -> 0 | L102: =(2*L$94+2*$D102)*$M$39 -> 0 | ... W102: =(2*W$94+2*$D102)*$M$39 -> 0
C103: =$C$78 -> 1400 | D103: =C103*0.001 -> 1.4 | E103: =(2*E$94+2*$D103)*$M$39 -> 0 | F103: =(2*F$94+2*$D103)*$M$39 -> 0 | G103: =(2*G$94+2*$D103)*$M$39 -> 0 | H103: =(2*H$94+2*$D103)*$M$39 -> 0 | I103: =(2*I$94+2*$D103)*$M$39 -> 0 | J103: =(2*J$94+2*$D103)*$M$39 -> 0 | K103: =(2*K$94+2*$D103)*$M$39 -> 0 | L103: =(2*L$94+2*$D103)*$M$39 -> 0 | ... W103: =(2*W$94+2*$D103)*$M$39 -> 0
C104: =$C$79 -> 1500 | D104: =C104*0.001 -> 1.5 | E104: =(2*E$94+2*$D104)*$M$39 -> 0 | F104: =(2*F$94+2*$D104)*$M$39 -> 0 | G104: =(2*G$94+2*$D104)*$M$39 -> 0 | H104: =(2*H$94+2*$D104)*$M$39 -> 0 | I104: =(2*I$94+2*$D104)*$M$39 -> 0 | J104: =(2*J$94+2*$D104)*$M$39 -> 0 | K104: =(2*K$94+2*$D104)*$M$39 -> 0 | L104: =(2*L$94+2*$D104)*$M$39 -> 0 | ... W104: =(2*W$94+2*$D104)*$M$39 -> 0
C105: =$C$80 -> 1600 | D105: =C105*0.001 -> 1.6 | E105: =(2*E$94+2*$D105)*$M$39 -> 0 | F105: =(2*F$94+2*$D105)*$M$39 -> 0 | G105: =(2*G$94+2*$D105)*$M$39 -> 0 | H105: =(2*H$94+2*$D105)*$M$39 -> 0 | I105: =(2*I$94+2*$D105)*$M$39 -> 0 | J105: =(2*J$94+2*$D105)*$M$39 -> 0 | K105: =(2*K$94+2*$D105)*$M$39 -> 0 | L105: =(2*L$94+2*$D105)*$M$39 -> 0 | ... W105: =(2*W$94+2*$D105)*$M$39 -> 0
C106: =$C$81 -> 1700 | D106: =C106*0.001 -> 1.7 | E106: =(2*E$94+2*$D106)*$M$39 -> 0 | F106: =(2*F$94+2*$D106)*$M$39 -> 0 | G106: =(2*G$94+2*$D106)*$M$39 -> 0 | H106: =(2*H$94+2*$D106)*$M$39 -> 0 | I106: =(2*I$94+2*$D106)*$M$39 -> 0 | J106: =(2*J$94+2*$D106)*$M$39 -> 0 | K106: =(2*K$94+2*$D106)*$M$39 -> 0 | L106: =(2*L$94+2*$D106)*$M$39 -> 0 | ... W106: =(2*W$94+2*$D106)*$M$39 -> 0
C107: =$C$82 -> 1800 | D107: =C107*0.001 -> 1.8 | E107: =(2*E$94+2*$D107)*$M$39 -> 0 | F107: =(2*F$94+2*$D107)*$M$39 -> 0 | G107: =(2*G$94+2*$D107)*$M$39 -> 0 | H107: =(2*H$94+2*$D107)*$M$39 -> 0 | I107: =(2*I$94+2*$D107)*$M$39 -> 0 | J107: =(2*J$94+2*$D107)*$M$39 -> 0 | K107: =(2*K$94+2*$D107)*$M$39 -> 0 | L107: =(2*L$94+2*$D107)*$M$39 -> 0 | ... W107: =(2*W$94+2*$D107)*$M$39 -> 0
C108: =$C$83 -> 1900 | D108: =C108*0.001 -> 1.9 | E108: =(2*E$94+2*$D108)*$M$39 -> 0 | F108: =(2*F$94+2*$D108)*$M$39 -> 0 | G108: =(2*G$94+2*$D108)*$M$39 -> 0 | H108: =(2*H$94+2*$D108)*$M$39 -> 0 | I108: =(2*I$94+2*$D108)*$M$39 -> 0 | J108: =(2*J$94+2*$D108)*$M$39 -> 0 | K108: =(2*K$94+2*$D108)*$M$39 -> 0 | L108: =(2*L$94+2*$D108)*$M$39 -> 0 | ... W108: =(2*W$94+2*$D108)*$M$39 -> 0
C109: =$C$84 -> 2000 | D109: =C109*0.001 -> 2 | E109: =(2*E$94+2*$D109)*$M$39 -> 0 | F109: =(2*F$94+2*$D109)*$M$39 -> 0 | G109: =(2*G$94+2*$D109)*$M$39 -> 0 | H109: =(2*H$94+2*$D109)*$M$39 -> 0 | I109: =(2*I$94+2*$D109)*$M$39 -> 0 | J109: =(2*J$94+2*$D109)*$M$39 -> 0 | K109: =(2*K$94+2*$D109)*$M$39 -> 0 | L109: =(2*L$94+2*$D109)*$M$39 -> 0 | ... W109: =(2*W$94+2*$D109)*$M$39 -> 0
B112: Gewicht wisselprofiel
E116: Fb
E117: =$E$68 -> 600 | F117: =$F$68 -> 700 | G117: =$G$68 -> 800 | H117: =$H$68 -> 900 | I117: =$I$68 -> 1000 | J117: =$J$68 -> 1100 | K117: =$K$68 -> 1200 | L117: =$L$68 -> 1300 | M117: =$M$68 -> 1400 | N117: =$N$68 -> 1500 | O117: =$O$68 -> 1600 | P117: =$P$68 -> 1700 | Q117: =$Q$68 -> 1800 | R117: =$R$68 -> 1900 | S117: =$S$68 -> 2000 | T117: =$T$68 -> 2100 | U117: =$U$68 -> 2200 | V117: =$V$68 -> 2300 | W117: =$W$68 -> 2400
E118: =E117*0.001 -> 0.6 | F118: =F117*0.001 -> 0.7 | G118: =G117*0.001 -> 0.8 | H118: =H117*0.001 -> 0.9 | I118: =I117*0.001 -> 1 | J118: =J117*0.001 -> 1.1 | K118: =K117*0.001 -> 1.2 | L118: =L117*0.001 -> 1.3 | ... W118: =W117*0.001 -> 2.4
B119: Fh | C119: =$C$70 -> 600 | D119: =C119*0.001 -> 0.6 | E119: =(E$118+$D119)*$M$41 -> 0 | F119: =(F$118+$D119)*$M$41 -> 0 | G119: =(G$118+$D119)*$M$41 -> 0 | H119: =(H$118+$D119)*$M$41 -> 0 | I119: =(I$118+$D119)*$M$41 -> 0 | J119: =(J$118+$D119)*$M$41 -> 0 | K119: =(K$118+$D119)*$M$41 -> 0 | L119: =(L$118+$D119)*$M$41 -> 0 | ... W119: =(W$118+$D119)*$M$41 -> 0
C120: =$C$71 -> 700 | D120: =C120*0.001 -> 0.7 | E120: =(E$118+$D120)*$M$41 -> 0 | F120: =(F$118+$D120)*$M$41 -> 0 | G120: =(G$118+$D120)*$M$41 -> 0 | H120: =(H$118+$D120)*$M$41 -> 0 | I120: =(I$118+$D120)*$M$41 -> 0 | J120: =(J$118+$D120)*$M$41 -> 0 | K120: =(K$118+$D120)*$M$41 -> 0 | L120: =(L$118+$D120)*$M$41 -> 0 | ... W120: =(W$118+$D120)*$M$41 -> 0
C121: =$C$72 -> 800 | D121: =C121*0.001 -> 0.8 | E121: =(E$118+$D121)*$M$41 -> 0 | F121: =(F$118+$D121)*$M$41 -> 0 | G121: =(G$118+$D121)*$M$41 -> 0 | H121: =(H$118+$D121)*$M$41 -> 0 | I121: =(I$118+$D121)*$M$41 -> 0 | J121: =(J$118+$D121)*$M$41 -> 0 | K121: =(K$118+$D121)*$M$41 -> 0 | L121: =(L$118+$D121)*$M$41 -> 0 | ... W121: =(W$118+$D121)*$M$41 -> 0
C122: =$C$73 -> 900 | D122: =C122*0.001 -> 0.9 | E122: =(E$118+$D122)*$M$41 -> 0 | F122: =(F$118+$D122)*$M$41 -> 0 | G122: =(G$118+$D122)*$M$41 -> 0 | H122: =(H$118+$D122)*$M$41 -> 0 | I122: =(I$118+$D122)*$M$41 -> 0 | J122: =(J$118+$D122)*$M$41 -> 0 | K122: =(K$118+$D122)*$M$41 -> 0 | L122: =(L$118+$D122)*$M$41 -> 0 | ... W122: =(W$118+$D122)*$M$41 -> 0
C123: =$C$74 -> 1000 | D123: =C123*0.001 -> 1 | E123: =(E$118+$D123)*$M$41 -> 0 | F123: =(F$118+$D123)*$M$41 -> 0 | G123: =(G$118+$D123)*$M$41 -> 0 | H123: =(H$118+$D123)*$M$41 -> 0 | I123: =(I$118+$D123)*$M$41 -> 0 | J123: =(J$118+$D123)*$M$41 -> 0 | K123: =(K$118+$D123)*$M$41 -> 0 | L123: =(L$118+$D123)*$M$41 -> 0 | ... W123: =(W$118+$D123)*$M$41 -> 0
C124: =$C$75 -> 1100 | D124: =C124*0.001 -> 1.1 | E124: =(E$118+$D124)*$M$41 -> 0 | F124: =(F$118+$D124)*$M$41 -> 0 | G124: =(G$118+$D124)*$M$41 -> 0 | H124: =(H$118+$D124)*$M$41 -> 0 | I124: =(I$118+$D124)*$M$41 -> 0 | J124: =(J$118+$D124)*$M$41 -> 0 | K124: =(K$118+$D124)*$M$41 -> 0 | L124: =(L$118+$D124)*$M$41 -> 0 | ... W124: =(W$118+$D124)*$M$41 -> 0
C125: =$C$76 -> 1200 | D125: =C125*0.001 -> 1.2 | E125: =(E$118+$D125)*$M$41 -> 0 | F125: =(F$118+$D125)*$M$41 -> 0 | G125: =(G$118+$D125)*$M$41 -> 0 | H125: =(H$118+$D125)*$M$41 -> 0 | I125: =(I$118+$D125)*$M$41 -> 0 | J125: =(J$118+$D125)*$M$41 -> 0 | K125: =(K$118+$D125)*$M$41 -> 0 | L125: =(L$118+$D125)*$M$41 -> 0 | ... W125: =(W$118+$D125)*$M$41 -> 0
C126: =$C$77 -> 1300 | D126: =C126*0.001 -> 1.3 | E126: =(E$118+$D126)*$M$41 -> 0 | F126: =(F$118+$D126)*$M$41 -> 0 | G126: =(G$118+$D126)*$M$41 -> 0 | H126: =(H$118+$D126)*$M$41 -> 0 | I126: =(I$118+$D126)*$M$41 -> 0 | J126: =(J$118+$D126)*$M$41 -> 0 | K126: =(K$118+$D126)*$M$41 -> 0 | L126: =(L$118+$D126)*$M$41 -> 0 | ... W126: =(W$118+$D126)*$M$41 -> 0
C127: =$C$78 -> 1400 | D127: =C127*0.001 -> 1.4 | E127: =(E$118+$D127)*$M$41 -> 0 | F127: =(F$118+$D127)*$M$41 -> 0 | G127: =(G$118+$D127)*$M$41 -> 0 | H127: =(H$118+$D127)*$M$41 -> 0 | I127: =(I$118+$D127)*$M$41 -> 0 | J127: =(J$118+$D127)*$M$41 -> 0 | K127: =(K$118+$D127)*$M$41 -> 0 | L127: =(L$118+$D127)*$M$41 -> 0 | ... W127: =(W$118+$D127)*$M$41 -> 0
C128: =$C$79 -> 1500 | D128: =C128*0.001 -> 1.5 | E128: =(E$118+$D128)*$M$41 -> 0 | F128: =(F$118+$D128)*$M$41 -> 0 | G128: =(G$118+$D128)*$M$41 -> 0 | H128: =(H$118+$D128)*$M$41 -> 0 | I128: =(I$118+$D128)*$M$41 -> 0 | J128: =(J$118+$D128)*$M$41 -> 0 | K128: =(K$118+$D128)*$M$41 -> 0 | L128: =(L$118+$D128)*$M$41 -> 0 | ... W128: =(W$118+$D128)*$M$41 -> 0
C129: =$C$80 -> 1600 | D129: =C129*0.001 -> 1.6 | E129: =(E$118+$D129)*$M$41 -> 0 | F129: =(F$118+$D129)*$M$41 -> 0 | G129: =(G$118+$D129)*$M$41 -> 0 | H129: =(H$118+$D129)*$M$41 -> 0 | I129: =(I$118+$D129)*$M$41 -> 0 | J129: =(J$118+$D129)*$M$41 -> 0 | K129: =(K$118+$D129)*$M$41 -> 0 | L129: =(L$118+$D129)*$M$41 -> 0 | ... W129: =(W$118+$D129)*$M$41 -> 0
C130: =$C$81 -> 1700 | D130: =C130*0.001 -> 1.7 | E130: =(E$118+$D130)*$M$41 -> 0 | F130: =(F$118+$D130)*$M$41 -> 0 | G130: =(G$118+$D130)*$M$41 -> 0 | H130: =(H$118+$D130)*$M$41 -> 0 | I130: =(I$118+$D130)*$M$41 -> 0 | J130: =(J$118+$D130)*$M$41 -> 0 | K130: =(K$118+$D130)*$M$41 -> 0 | L130: =(L$118+$D130)*$M$41 -> 0 | ... W130: =(W$118+$D130)*$M$41 -> 0
C131: =$C$82 -> 1800 | D131: =C131*0.001 -> 1.8 | E131: =(E$118+$D131)*$M$41 -> 0 | F131: =(F$118+$D131)*$M$41 -> 0 | G131: =(G$118+$D131)*$M$41 -> 0 | H131: =(H$118+$D131)*$M$41 -> 0 | I131: =(I$118+$D131)*$M$41 -> 0 | J131: =(J$118+$D131)*$M$41 -> 0 | K131: =(K$118+$D131)*$M$41 -> 0 | L131: =(L$118+$D131)*$M$41 -> 0 | ... W131: =(W$118+$D131)*$M$41 -> 0
C132: =$C$83 -> 1900 | D132: =C132*0.001 -> 1.9 | E132: =(E$118+$D132)*$M$41 -> 0 | F132: =(F$118+$D132)*$M$41 -> 0 | G132: =(G$118+$D132)*$M$41 -> 0 | H132: =(H$118+$D132)*$M$41 -> 0 | I132: =(I$118+$D132)*$M$41 -> 0 | J132: =(J$118+$D132)*$M$41 -> 0 | K132: =(K$118+$D132)*$M$41 -> 0 | L132: =(L$118+$D132)*$M$41 -> 0 | ... W132: =(W$118+$D132)*$M$41 -> 0
C133: =$C$84 -> 2000 | D133: =C133*0.001 -> 2 | E133: =(E$118+$D133)*$M$41 -> 0 | F133: =(F$118+$D133)*$M$41 -> 0 | G133: =(G$118+$D133)*$M$41 -> 0 | H133: =(H$118+$D133)*$M$41 -> 0 | I133: =(I$118+$D133)*$M$41 -> 0 | J133: =(J$118+$D133)*$M$41 -> 0 | K133: =(K$118+$D133)*$M$41 -> 0 | L133: =(L$118+$D133)*$M$41 -> 0 | ... W133: =(W$118+$D133)*$M$41 -> 0
B136: Gewicht Vleugel
E140: Fb
E141: =$E$68 -> 600 | F141: =$F$68 -> 700 | G141: =$G$68 -> 800 | H141: =$H$68 -> 900 | I141: =$I$68 -> 1000 | J141: =$J$68 -> 1100 | K141: =$K$68 -> 1200 | L141: =$L$68 -> 1300 | M141: =$M$68 -> 1400 | N141: =$N$68 -> 1500 | O141: =$O$68 -> 1600 | P141: =$P$68 -> 1700 | Q141: =$Q$68 -> 1800 | R141: =$R$68 -> 1900 | S141: =$S$68 -> 2000 | T141: =$T$68 -> 2100 | U141: =$U$68 -> 2200 | V141: =$V$68 -> 2300 | W141: =$W$68 -> 2400
E142: =E141*0.001 -> 0.6 | F142: =F141*0.001 -> 0.7 | G142: =G141*0.001 -> 0.8 | H142: =H141*0.001 -> 0.9 | I142: =I141*0.001 -> 1 | J142: =J141*0.001 -> 1.1 | K142: =K141*0.001 -> 1.2 | L142: =L141*0.001 -> 1.3 | ... W142: =W141*0.001 -> 2.4
B143: Fh | C143: =$C$70 -> 600 | D143: =C143*0.001 -> 0.6 | E143: =E70+E95+E119 -> 0 | F143: =F70+F95+F119 -> 0 | G143: =G70+G95+G119 -> 0 | H143: =H70+H95+H119 -> 0 | I143: =I70+I95+I119 -> 0 | J143: =J70+J95+J119 -> 0 | K143: =K70+K95+K119 -> 0 | L143: =L70+L95+L119 -> 0 | ... W143: =W70+W95+W119 -> 0
C144: =$C$71 -> 700 | D144: =C144*0.001 -> 0.7 | E144: =E71+E96+E120 -> 0 | F144: =F71+F96+F120 -> 0 | G144: =G71+G96+G120 -> 0 | H144: =H71+H96+H120 -> 0 | I144: =I71+I96+I120 -> 0 | J144: =J71+J96+J120 -> 0 | K144: =K71+K96+K120 -> 0 | L144: =L71+L96+L120 -> 0 | ... W144: =W71+W96+W120 -> 0
...

Sheet Waarschuwingen
A1: hulpvoorwaarden | B1: WAAR/ONWAAR
A2: glasmaat ingevuld? | B2: =OR(AND(input!$F$22<>"", input!$F$23<>""),input!$F$26<>"") -> FALSE
A3: Fh en Fb ingevuld? | B3: =AND(input!$F$19<>"",input!$F$20<>"") -> FALSE
A4: alle waarden voor overview? | B4: =AND(input!$F$12<>"",input!F$13<>"",input!$F$14<>"",input!$F$15<>"",input!K13<>"",input!$K$14<>"",input!$K$15<>"",input!$K$16<>"",input!$K$17<>"",input!$F$31<>"",glasmaat_ingevuld?=TRUE) -> FALSE
A5: glass width ingevuld? | B5: =IF(input!$F$22<>"",TRUE, FALSE) -> FALSE
A6: glass height ingevuld? | B6: =IF(input!$F$23<>"",TRUE, FALSE) -> FALSE
A7: glass width of glass height ontbreekt? | B7: =OR(AND(glass_width_ingevuld?=TRUE,glass_height_ingevuld?=FALSE),AND(glass_width_ingevuld?=FALSE,glass_height_ingevuld?=TRUE)) -> FALSE
K10: Aantal foutmeldingen | N10: =COUNTIF(B12:B22,TRUE) -> 2
A11: Voorwaarde | B11: WAAR/ ONWAAR | C11: ERROR MESSAGES
A12: gegevens tekort voor overview? | B12: =IF(alle_waarden_voor_overview?=FALSE, TRUE, FALSE) -> TRUE | C12: Not all necessary values are filled in correctly
A13: gegevens tekort voor specific? | B13: =IF(Fh_en_Fb_ingevuld?=FALSE, TRUE, FALSE) -> TRUE | C13: For an estimation of a specific window fill in Fb and Fh
A14: Glass width wel, Glass height niet? | B14: =AND(glass_width_ingevuld?=TRUE,glass_height_ingevuld?=FALSE) -> FALSE | C14: If glass width ist filled in, glass height needs to be filled in as well
A15: Glass width niet, Glass height wel? | B15: =AND(glass_width_ingevuld?=FALSE, glass_height_ingevuld?=TRUE) -> FALSE | C15: If glass height is filled in, glass width needs to be filled in as well
A16: g1 ≠ 0 en t2 = 0 | B16: =AND(input!$K$14<>0,input!$K$15=0) -> FALSE | C16: If no triple glazing is used, g1 and t2 should be filled in as 0. Otherwise both values should be bigger than 0
A17: g1 = 0 en t2 ≠ 0 | B17: =AND(input!$K$14=0,input!$K$15<>0) -> FALSE | C17: If no triple glazing is used, g1 and t2 should be filled in as 0. Otherwise both values should be bigger than 0
A18: g2 ≠ 0 en t3 = 0 | B18: =AND(input!$K$16<>0,input!$K$17=0) -> FALSE | C18: If double or triple glazing is used, g2 and t3 should be bigger than 0. in case of single glazing, both shouldbe equal to 0
A19: g2 = 0 en t3 ≠ 0 | B19: =AND(input!$K$16=0,input!$K$17<>0) -> FALSE | C19: If double or triple glazing is used, g2 and t3 should be bigger than 0. in case of single glazing, both shouldbe equal to 0
A20: A= (Fb - Glass width)/2 | B20: =AND(input!$F$22<>"",input!$F$23<>"",input!$F$26<>"",input!$F$19-input!$F$22<>2*input!F26) -> FALSE | C20: "glass width" + 2*A should be equel to Fb
A21: A= (Fh - Glass height)/2 | B21: =AND(input!$F$22<>"",input!$F$23<>"",input!$F$26<>"",input!$F$20-input!$F$23<>2*input!F26) -> FALSE | C21: "glass height" + 2*A should be equel to Fh
A22: glass dikte groter dan D-Dg | B22: =IF(CALC!$C$6+CALC!$C$7+CALC!$C$8+CALC!$F$6+CALC!$F$7>input!$F$14-input!$F$15,TRUE,FALSE) -> FALSE | C22: Total glass thickness is bigger than the space for the glass(D-Dg)
A23: Glass width Negative? | B23: =IF(AND(CALC!$M$24<0,input!$F$19<>""), TRUE, FALSE) -> FALSE | C23: Calculated Glass width is equal to 0 or negative (2*A is bigger than Fb)
A24: Glass Height Negative? | B24: =IF(AND(CALC!$M$25<0,input!$F$20<>""), TRUE, FALSE) -> FALSE | C24: Calculated Glass height is equal to 0 or negative (2*A is bigger than Fh)
A25: Calculated A on Fh >200 | B25: =IF(input!$F$22<>"",IF((input!$F$19-input!$F$22)>400,TRUE, FALSE),FALSE) -> FALSE | C25: Calculated A is to big('Fb-Glass width' and 'Fh-glass height' should be smaller or equal to 400) | M25: =IF(input!$F$22<>"",IF((input!$F$19-input!$F$22)>400,TRUE, FALSE),FALSE) -> FALSE
A26: Calculated A(Fb) ≠ Calculated A(Fh) | B26: =IF(input!$F$22<>0,IF(input!$F$19-input!$F$22<>input!$F$20-input!$F$23,TRUE,FALSE),FALSE) -> FALSE | C26: Fb-Glass width should be equal to Fh-glass height | M26: =IF(input!$F$22<>0,IF(input!$F$19-input!$F$22<>input!$F$20-input!$F$23,TRUE,FALSE),FALSE) -> FALSE
A27: Glass height > Fh | B27: =IF(input!$F$19-input!$F$22<0, TRUE, FALSE) -> FALSE | C27: Glass Height/width should not be bigger than Fh/Fb
A30: gewicht vleugel is > 180kg | B30: =IF(ROUNDDOWN(CALC!$F$22,1)+ROUNDDOWN(CALC!$F$23+CALC!$F$24,1)>180,TRUE,FALSE) -> FALSE | C30: Vent Weight exceeds maximum allowed bearing weight of the hinges
A34: Master key specific | B34: =OR(gegevens_tekort_voor_specific?=TRUE,gegevens__tekort_voor_overview?=TRUE,g1_≠_0_en_t2___0=TRUE,g1___0_en_t2_≠_0=TRUE,g2_≠_0_en_t3___0=TRUE,g2___0_en_t3_≠_0=TRUE,A____Fb___Glass_width__2=TRUE,A____Fh___Glass_height__2=TRUE,Glass_width_wel__Glass_height_niet?=TRUE,Glass_width_niet__Glass_height_wel?=TRUE,B23=TRUE,B24=TRUE,glass_dikte_groter_dan_D_Dg=TRUE,B25=TRUE,B26=TRUE, B27=TRUE) -> TRUE | C34: N/A
A35: Master key overview | B35: =OR(gegevens__tekort_voor_overview?=TRUE,g1_≠_0_en_t2___0=TRUE,g1___0_en_t2_≠_0=TRUE,g2_≠_0_en_t3___0=TRUE,g2___0_en_t3_≠_0=TRUE,A____Fb___Glass_width__2=TRUE,A____Fh___Glass_height__2=TRUE,Glass_width_wel__Glass_height_niet?=TRUE,Glass_width_niet__Glass_height_wel?=TRUE,B23=TRUE,B24=TRUE,glass_dikte_groter_dan_D_Dg=TRUE,B25=TRUE,B26=TRUE, B27=TRUE) -> TRUE | C35: N/A
A41: Waarschuwing indien Fg>180kg | C41: Fg > 180kg
