Workbook
Name A____Fb___Glass_width__2: Waarschuwingen!$B$20
Name A____Fh___Glass_height__2: Waarschuwingen!$B$21
Name alle_waarden_voor_overview?: Waarschuwingen!$B$4
Name Fh_en_Fb_ingevuld?: Waarschuwingen!$B$3
Name g1___0_en_t2_≠_0: Waarschuwingen!$B$17
Name g1_≠_0_en_t2___0: Waarschuwingen!$B$16
Name g1_gap1: input!$K$14
Name g2___0_en_t3_≠_0: Waarschuwingen!$B$19
Name g2_≠_0_en_t3___0: Waarschuwingen!$B$18
Name g2_gap2: input!$K$16
Name gegevens__tekort_voor_overview?: Waarschuwingen!$B$12
Name gegevens_tekort_voor_specific?: Waarschuwingen!$B$13
Name gewicht_vleugel_is___180kg: Waarschuwingen!$B$30
Name glasmaat_ingevuld?: Waarschuwingen!$B$2
Name glass_dikte_groter_dan_D_Dg: Waarschuwingen!$B$22
Name glass_height_ingevuld?: Waarschuwingen!$B$6
Name glass_width_ingevuld?: Waarschuwingen!$B$5
Name Glass_width_niet__Glass_height_wel?: Waarschuwingen!$B$15
Name glass_width_of_glass_height_ontbreekt?: Waarschuwingen!$B$7
Name Glass_width_wel__Glass_height_niet?: Waarschuwingen!$B$14
Name Master_key_specific: Waarschuwingen!$B$34
Name Pivot_list: 'pivot list'!$A$2:$A$54
Name t1_outside: input!$K$13
Name t2_middle: input!$K$15
Name t3_inside: input!$K$17

Sheet input
L1: SOBINCO - tool estimation operating forces V.2021/05/06
C2: Project Info
C7: Input
C10: Profile specification | I10: Glass specification
C12: Weight vent Profile | G12: kg/m | I12: panel/gap | K12: thickness
C13: Weight intermediate profile | G13: kg/m | I13: t1 | J13: outside | L13: mm
C14: D | D14: Profile depth | G14: mm | I14: g1 | J14: gap 1 | L14: mm
C15: Dg | D15: Position of the glass | G15: mm | I15: t2 | J15: middle | L15: mm
I16: g2 | J16: gap 2 | L16: mm
C17: Window specification | I17: t3 | J17: inside | L17: mm
C19: Fb | D19: vent width | G19: mm | I19: =IF(I20<>"",Waarschuwingen!C11,"") -> ERROR MESSAGES
C20: Fh | D20: vent height | G20: mm | I20: {=IFERROR(INDEX(Waarschuwingen!$C$12:$C$28,SMALL(IF((Waarschuwingen!$B$12:$B$28)=TRUE,ROW(Waarschuwingen!$B$12:$B$28)-11,100),ROW(1:17))),"")} -> Not all necessary values are filled in correctly
I21: For an estimation of a specific window fill in Fb and Fh
C22: Glass width | G22: mm
C23: Glass height | G23: mm
C24: OR
C26: A | D26: Difference between vent size and glass size | G26: mm
C30: Pivot specification
C31: Used Pivot
C33: RESULTS
K35: LEGEND
C37: Remarks on the results | L37: N/A | M37: No results, not all values are filled in correctly
C38: - The estimation is a calculation of the input values | L38: Fg > 180kg | M38: No result because vent weight exceeds max. bearing weight of the hinges
C39: - Some simplifications of the system are made in the calculation | K39: whitout friction device | L39: 38 N | M39: Estimated operating Force Below 50N, probably possible to keep under 100N with tightened friction device
L40: 62 N | M40: Estimated operating force between 50N and 100N, not possible keep under 100N with tightened friction device
L41: 103 N | M41: Estimated operating force above 100N
K42: with friction device | L42: YES / 40 N | M42: Estimation friction device can hold window open, estimated operating force less than 50N
L43: YES / 80 N | M43: Estimation friction device can hold window open, Estimated operating force between 50N and 100N
L44: YES / 120 N | M44: Estimation friction device can hold window open, estimated force will be more than 100N
L45: NO | M45: Estimation friction device is not sufficient to hold window open
E47: specific window calculation
F51: Glass weight | I51: =IF(Master_key_specific=TRUE,Waarschuwingen!$C$34, ROUNDDOWN(CALC!$F$22,1)) -> N/A
F52: Profile weight | I52: =IF(Master_key_specific=TRUE,Waarschuwingen!$C$34, ROUNDDOWN(CALC!$F$23+CALC!$F$24,1)) -> N/A
F53: Total Vent weight (Fg) | I53: =IF(Master_key_specific=TRUE,Waarschuwingen!$C$34,ROUNDDOWN(CALC!$F$22,1)+ROUNDDOWN(CALC!$F$23+CALC!$F$24,1)) -> N/A | K53: =IF(gewicht_vleugel_is___180kg,Waarschuwingen!C30,"")
G55: Estimated operating force, without tightening friction device | L55: =IF(Master_key_specific=TRUE,Waarschuwingen!$C$34,IF($I$53>180,Waarschuwingen!$C$41,CALC!$G$51)) -> N/A
G57: Estimation hold open by friction device | L57: =IF(Master_key_specific=TRUE,Waarschuwingen!$C$34,IF($I$53>180,Waarschuwingen!$C$41,CALC!$G$52)) -> N/A
G58: Estimated operating force , with friction device tightened | L58: =IF(Master_key_specific=TRUE,Waarschuwingen!$C$34,IF($I$53>180,Waarschuwingen!$C$41,IF($L$57="NO","/",ROUND(L55*2,0)))) -> N/A
F60: overview
G63: Estimated operating force without friction device
G85: Estimation hold open by friction device

Sheet pivot list
A1: Pivot | B1: G | C1: unit | D1: available brakingforce | E1: unit
A2: 2600-1 | B2: 20.5 | C2: mm | D2: 40 | E2: Nm
A3: 2600-1B | B3: 20.5 | C3: mm | D3: 40 | E3: Nm
A4: 2600-4 | B4: 23.5 | C4: mm | D4: 40 | E4: Nm
A5: 2600-5 | B5: 21.1 | C5: mm | D5: 40 | E5: Nm
A6: 2600-6 | B6: 20.5 | C6: mm | D6: 40 | E6: Nm
A7: 2600-7 | B7: 23.5 | C7: mm | D7: 40 | E7: Nm
A8: 2600-8 | B8: 20.5 | C8: mm | D8: 40 | E8: Nm
A9: 490-4J | B9: 21 | C9: mm | D9: 40 | E9: Nm
A10: 490-5 | B10: 24 | C10: mm | D10: 40 | E10: Nm
A11: 490-5F | B11: 26 | C11: mm | D11: 40 | E11: Nm
A12: 490-7C | B12: 21 | C12: mm | D12: 40 | E12: Nm
A13: 490-82 | B13: 15 | C13: mm | D13: 40 | E13: Nm
... A53: 490-191 | B53: 15.7 | C53: mm | D53: 40 | E53: Nm
A54: 2501 | B54: 15 | C54: mm | D54: 40 | E54: Nm

Sheet CALC
B2: berekening gegevens glasplaat | I2: Pivot
B5: Glasplaten | E5: Gap | J5: Gebruikte Pivot | M5: =input!F31 -> 0
B6: outside | C6: =input!K13 -> 0 | D6: mm | E6: SRZ1 | F6: =input!K14 -> 0 | G6: mm | I6: G | J6: afstand tot draaipunt | M6: =VLOOKUP(M5,'pivot list'!$A$2:$B$54,2,FALSE) -> #N/A | N6: mm
B7: middle | C7: =input!K15 -> 0 | D7: mm | E7: SRZ2 | F7: =input!K16 -> 0 | G7: mm
B8: inside | C8: =input!K17 -> 0 | D8: mm
B10: Aantal glasplaten | E10: =COUNTIF(C6:C8,"<>0") -> 0
B11: gewicht glasplaat | E11: =SUM(C6:C8)*2.5 -> 0 | F11: kg/m²
B12: glasplaat midden? | E12: =COUNTIF(C7,"<>0") -> 0
B13: glasplaat binnen? | E13: =COUNTIF(C8,"<>0") -> 0
B15: Berekening specifiek raam
B19: Gewichten | I19: gegevens in meter
B22: Fg | C22: Gewicht glas | F22: =M24*M25*E11 -> 0 | G22: kg | I22: Fb | J22: vleugelbreedte | M22: =input!F19*0.001 -> 0 | N22: m
C23: Gewicht Vleugelprofiel | F23: =(2*M22+2*M23)*input!F12 -> 0 | G23: kg | I23: Fh | J23: vleugelhoogte | M23: =input!F20*0.001 -> 0 | N23: m
C24: Gewicht Wisselprofiel | F24: =(M22+M23)*input!F13 -> 0 | G24: kg | J24: glass width | M24: =IF(input!$F$22<>0,input!$F$22*0.001,(input!$F$19-2*input!$F$26)*0.001) -> 0 | N24: m
J25: glass height | M25: =IF(input!$F$23<>0,input!$F$23*0.001,(input!$F$20-2*input!$F$26)*0.001) -> 0 | N25: m
B26: Zwaartepunt glasplaat | I26: D | J26: profieldiepte | M26: =input!F14*0.001 -> 0 | N26: m
I27: MgZ | J27: zwaartepunt glas(van buiten) | M27: =F30*0.001 -> #DIV/0! | N27: m
I28: G | J28: afstand tot Draaipunt | M28: =M6*0.001 -> #N/A | N28: m
C29: positie in glas (van buiten) | F29: =((C6/2)*C6+(E12*(C6+F6+C7/2)*C7)+(E13*(C6+F6+C7+F7+C8/2)*C8))/(SUM(C6:C8)) -> #DIV/0! | G29: mm | I29: evlZ | J29: zwaartepunt vleugelprofiel | M29: =F32*0.001 -> 0 | N29: m
B30: egZ | C30: zwaartepunt glas (van buiten) | F30: =input!F14-input!F15-CALC!F29 -> #DIV/0! | G30: mm | I30: ewZ | J30: zwaartepunt wisselprofiel | M30: =F33*0.001 -> 0 | N30: m
I31: eZ | J31: zwaartepunt vleugel | M31: =F35*0.001 -> #DIV/0! | N31: m
B32: evlZ | C32: zwaartepunt vleugelprofiel | F32: =input!$F$14/2 -> 0 | G32: mm | I32: eg+G | J32: zwaartepunt + draaipunt | M32: =M31+M28 -> #DIV/0! | N32: m
B33: ewZ | C33: zwaartepunt wisselprofiel | F33: =input!$F$14/2 -> 0 | G33: mm
I34: gegevens in N
B35: eZ | C35: zwaartepunt vleugel | F35: =(F30*F22+F32*F23+F33*F24)/(SUM(F22:F24)) -> #DIV/0! | G35: mm
I37: Fg/m² | J37: gewicht glas per m² | M37: =E11*9.81 -> 0 | N37: N/m²
I38: Fg | J38: gewicht glas | M38: =F22*9.81 -> 0 | N38: N
J39: gewicht vleugelprofiel per m | M39: =input!F12*9.81 -> 0 | N39: N/m
J40: gewicht vleugelprofiel | M40: =F23*9.81 -> 0 | N40: N
J41: gewicht wisselprofiel per m² | M41: =input!F13*9.81 -> 0 | N41: N/m
J42: gewicht wisselprofiel | M42: =F24*9.81 -> 0 | N42: N
I43: F | J43: totaalgewicht vleugel | M43: =$M$38+$M$40+$M$42 -> 0 | N43: N
B47: Berekening Bedieningskracht
B50: M | C50: moment rond draaipunt | G50: =M43*M32 -> #DIV/0! | H50: Nm
B51: Fhandle | C51: bedieningskracht op greep | G51: =ROUND(G50/(M23/2),0) -> #DIV/0! | H51: N
B52: Stay open | C52: kan vleugel opengehouden worden? | G52: =IF(G50/2<=VLOOKUP(M5,'pivot list'!A2:E54,4,FALSE),"YES","NO") -> #DIV/0!
B57: Berekening matrix
B62: Glasgewicht
B65: Glasformaat (2*A) | D65: =IF(input!$F$26<>0,2*input!$F$26*0.001,(input!$F$20-input!$F$23)*0.001) -> 0 | E65: (Fh-glashoogte)
E67: Fb
...

Sheet Waarschuwingen
A1: hulpvoorwaarden | B1: WAAR/ONWAAR
A2: glasmaat ingevuld? | B2: =OR(AND(input!$F$22<>"", input!$F$23<>""),input!$F$26<>"") -> FALSE
A3: Fh en Fb ingevuld? | B3: =AND(input!$F$19<>"",input!$F$20<>"") -> FALSE
A4: alle waarden voor overview? | B4: =AND(input!$F$12<>"",input!F$13<>"",input!$F$14<>"",input!$F$15<>"",input!K13<>"",input!$K$14<>"",input!$K$15<>"",input!$K$16<>"",input!$K$17<>"",input!$F$31<>"",glasmaat_ingevuld?=TRUE) -> FALSE
A5: glass width ingevuld? | B5: =IF(input!$F$22<>"",TRUE, FALSE) -> FALSE
A6: glass height ingevuld? | B6: =IF(input!$F$23<>"",TRUE, FALSE) -> FALSE
A7: glass width of glass height ontbreekt? | B7: =OR(AND(glass_width_ingevuld?=TRUE,glass_height_ingevuld?=FALSE),AND(glass_width_ingevuld?=FALSE,glass_height_ingevuld?=TRUE)) -> FALSE
K10: Aantal foutmeldingen | N10: =COUNTIF(B12:B22,TRUE) -> 2
A11: Voorwaarde | B11: WAAR/ ONWAAR | C11: ERROR MESSAGES
A12: gegevens tekort voor overview? | B12: =IF(alle_waarden_voor_overview?=FALSE, TRUE, FALSE) -> TRUE | C12: Not all necessary values are filled in correctly
A13: gegevens tekort voor specific? | B13: =IF(Fh_en_Fb_ingevuld?=FALSE, TRUE, FALSE) -> TRUE | C13: For an estimation of a specific window fill in Fb and Fh
A14: Glass width wel, Glass height niet? | B14: =AND(glass_width_ingevuld?=TRUE,glass_height_ingevuld?=FALSE) -> FALSE | C14: If glass width ist filled in, glass height needs to be filled in as well
A15: Glass width niet, Glass height wel? | B15: =AND(glass_width_ingevuld?=FALSE, glass_height_ingevuld?=TRUE) -> FALSE | C15: If glass height is filled in, glass width needs to be filled in as well
A16: g1 ≠ 0 en t2 = 0 | B16: =AND(input!$K$14<>0,input!$K$15=0) -> FALSE | C16: If no triple glazing is used, g1 and t2 should be filled in as 0. Otherwise both values should be bigger than 0
A17: g1 = 0 en t2 ≠ 0 | B17: =AND(input!$K$14=0,input!$K$15<>0) -> FALSE | C17: If no triple glazing is used, g1 and t2 should be filled in as 0. Otherwise both values should be bigger than 0
A18: g2 ≠ 0 en t3 = 0 | B18: =AND(input!$K$16<>0,input!$K$17=0) -> FALSE | C18: If double or triple glazing is used, g2 and t3 should be bigger than 0. in case of single glazing, both shouldbe equal to 0
A19: g2 = 0 en t3 ≠ 0 | B19: =AND(input!$K$16=0,input!$K$17<>0) -> FALSE | C19: If double or triple glazing is used, g2 and t3 should be bigger than 0. in case of single glazing, both shouldbe equal to 0
A20: A= (Fb - Glass width)/2 | B20: =AND(input!$F$22<>"",input!$F$23<>"",input!$F$26<>"",input!$F$19-input!$F$22<>2*input!F26) -> FALSE | C20: "glass width" + 2*A should be equel to Fb
A21: A= (Fh - Glass height)/2 | B21: =AND(input!$F$22<>"",input!$F$23<>"",input!$F$26<>"",input!$F$20-input!$F$23<>2*input!F26) -> FALSE | C21: "glass height" + 2*A should be equel to Fh
A22: glass dikte groter dan D-Dg | B22: =IF(CALC!$C$6+CALC!$C$7+CALC!$C$8+CALC!$F$6+CALC!$F$7>input!$F$14-input!$F$15,TRUE,FALSE) -> FALSE | C22: Total glass thickness is bigger than the space for the glass(D-Dg)
A23: Glass width Negative? | B23: =IF(AND(CALC!$M$24<0,input!$F$19<>""), TRUE, FALSE) -> FALSE | C23: Calculated Glass width is equal to 0 or negative (2*A is bigger than Fb)
A24: Glass Height Negative? | B24: =IF(AND(CALC!$M$25<0,input!$F$20<>""), TRUE, FALSE) -> FALSE | C24: Calculated Glass height is equal to 0 or negative (2*A is bigger than Fh)
A25: Calculated A on Fh >200 | B25: =IF(input!$F$22<>"",IF((input!$F$19-input!$F$22)>400,TRUE, FALSE),FALSE) -> FALSE | C25: Calculated A is to big('Fb-Glass width' and 'Fh-glass height' should be smaller or equal to 400) | M25: =IF(input!$F$22<>"",IF((input!$F$19-input!$F$22)>400,TRUE, FALSE),FALSE) -> FALSE
A26: Calculated A(Fb) ≠ Calculated A(Fh) | B26: =IF(input!$F$22<>0,IF(input!$F$19-input!$F$22<>input!$F$20-input!$F$23,TRUE,FALSE),FALSE) -> FALSE | C26: Fb-Glass width should be equal to Fh-glass height | M26: =IF(input!$F$22<>0,IF(input!$F$19-input!$F$22<>input!$F$20-input!$F$23,TRUE,FALSE),FALSE) -> FALSE
A27: Glass height > Fh | B27: =IF(input!$F$19-input!$F$22<0, TRUE, FALSE) -> FALSE | C27: Glass Height/width should not be bigger than Fh/Fb
A30: gewicht vleugel is > 180kg | B30: =IF(ROUNDDOWN(CALC!$F$22,1)+ROUNDDOWN(CALC!$F$23+CALC!$F$24,1)>180,TRUE,FALSE) -> FALSE | C30: Vent Weight exceeds maximum allowed bearing weight of the hinges
A34: Master key specific | B34: =OR(gegevens_tekort_voor_specific?=TRUE,gegevens__tekort_voor_overview?=TRUE,g1_≠_0_en_t2___0=TRUE,g1___0_en_t2_≠_0=TRUE,g2_≠_0_en_t3___0=TRUE,g2___0_en_t3_≠_0=TRUE,A____Fb___Glass_width__2=TRUE,A____Fh___Glass_height__2=TRUE,Glass_width_wel__Glass_height_niet?=TRUE,Glass_width_niet__Glass_height_wel?=TRUE,B23=TRUE,B24=TRUE,glass_dikte_groter_dan_D_Dg=TRUE,B25=TRUE,B26=TRUE, B27=TRUE) -> TRUE | C34: N/A
A35: Master key overview | B35: =OR(gegevens__tekort_voor_overview?=TRUE,g1_≠_0_en_t2___0=TRUE,g1___0_en_t2_≠_0=TRUE,g2_≠_0_en_t3___0=TRUE,g2___0_en_t3_≠_0=TRUE,A____Fb___Glass_width__2=TRUE,A____Fh___Glass_height__2=TRUE,Glass_width_wel__Glass_height_niet?=TRUE,Glass_width_niet__Glass_height_wel?=TRUE,B23=TRUE,B24=TRUE,glass_dikte_groter_dan_D_Dg=TRUE,B25=TRUE,B26=TRUE, B27=TRUE) -> TRUE | C35: N/A
A41: Waarschuwing indien Fg>180kg | C41: Fg > 180kg
